BEGIN:VCALENDAR
VERSION:2.0
PRODID:-//Tukios.com/
BEGIN:VEVENT
UID:6b18fd95-1332-4ada-bfb6-60e8f850acbf@www.woodriverchapel.com
DTSTAMP:20260420T222847Z
DTSTART:20260509T200000Z
DTEND:20260509T210000Z
SUMMARY:Celebration of Life
DESCRIPTION:
URL:https://www.woodriverchapel.com/obituaries/cody-chandler
LOCATION:Heagle Park 1151 War Eagle Dr  Hailey ID 83333
GEO:43.50685;-114.3131475
END:VEVENT
END:VCALENDAR